BEGIN:VCALENDAR
VERSION:2.0
PRODID:-//World Ship Society - ECPv6.15.20//NONSGML v1.0//EN
CALSCALE:GREGORIAN
METHOD:PUBLISH
X-ORIGINAL-URL:https://worldshipny.com
X-WR-CALDESC:Events for World Ship Society
REFRESH-INTERVAL;VALUE=DURATION:PT1H
X-Robots-Tag:noindex
X-PUBLISHED-TTL:PT1H
BEGIN:VTIMEZONE
TZID:America/New_York
BEGIN:DAYLIGHT
TZOFFSETFROM:-0500
TZOFFSETTO:-0400
TZNAME:EDT
DTSTART:20250309T070000
END:DAYLIGHT
BEGIN:STANDARD
TZOFFSETFROM:-0400
TZOFFSETTO:-0500
TZNAME:EST
DTSTART:20251102T060000
END:STANDARD
BEGIN:DAYLIGHT
TZOFFSETFROM:-0500
TZOFFSETTO:-0400
TZNAME:EDT
DTSTART:20260308T070000
END:DAYLIGHT
BEGIN:STANDARD
TZOFFSETFROM:-0400
TZOFFSETTO:-0500
TZNAME:EST
DTSTART:20261101T060000
END:STANDARD
BEGIN:DAYLIGHT
TZOFFSETFROM:-0500
TZOFFSETTO:-0400
TZNAME:EDT
DTSTART:20270314T070000
END:DAYLIGHT
BEGIN:STANDARD
TZOFFSETFROM:-0400
TZOFFSETTO:-0500
TZNAME:EST
DTSTART:20271107T060000
END:STANDARD
END:VTIMEZONE
BEGIN:VEVENT
DTSTART;TZID=America/New_York:20260517T101500
DTEND;TZID=America/New_York:20260517T120000
DTSTAMP:20260423T130618
CREATED:20260410T013419Z
LAST-MODIFIED:20260410T013419Z
UID:6778-1779012900-1779019200@worldshipny.com
SUMMARY:FLOATING PALACES ON THE NYC WATERFRONT WALKING TOUR
DESCRIPTION:Over a hundred years ago\, the Hudson River waterfront was the place where New York City cemented its status as one of the world’s greatest cities. Cargo\, commuters\, and international passengers jostled with dock workers\, freighters\, ferries\, railroads\, and giant ocean liners. Join us for a walking tour to explore how this dynamic waterfront worked in the age of TITANIC\, LUSITANIA\, and other floating palaces that once docked there. \nThis approximately 90-minute walking tour will be led by William Roka\, a WSS – PONY Branch Board Member and the Director of Programs at Village Preservation. He is also an independent historian and writer. His research\, presented at conferences in the United Kingdom\, Argentina\, Australia\, and across the United States\, has focused on the history of travel and ocean liners in the early 20th century. \nAn email with instructions on how to register for this limited-capacity event will be sent to all PONY Branch members. Be sure to register early to avoid missing out on this unique members-only experience!
URL:https://worldshipny.com/event/floating-palaces-on-the-nyc-waterfront-walking-tour/
ATTACH;FMTTYPE=image/jpeg:https://worldshipny.com/wp-content/uploads/2026/04/Screenshot-2026-04-04-222215.jpg
END:VEVENT
END:VCALENDAR