BEGIN:VCALENDAR
VERSION:2.0
PRODID:-//World Ship Society - ECPv6.15.20//NONSGML v1.0//EN
CALSCALE:GREGORIAN
METHOD:PUBLISH
X-WR-CALNAME:World Ship Society
X-ORIGINAL-URL:https://worldshipny.com
X-WR-CALDESC:Events for World Ship Society
REFRESH-INTERVAL;VALUE=DURATION:PT1H
X-Robots-Tag:noindex
X-PUBLISHED-TTL:PT1H
BEGIN:VTIMEZONE
TZID:America/New_York
BEGIN:DAYLIGHT
TZOFFSETFROM:-0500
TZOFFSETTO:-0400
TZNAME:EDT
DTSTART:20240310T070000
END:DAYLIGHT
BEGIN:STANDARD
TZOFFSETFROM:-0400
TZOFFSETTO:-0500
TZNAME:EST
DTSTART:20241103T060000
END:STANDARD
BEGIN:DAYLIGHT
TZOFFSETFROM:-0500
TZOFFSETTO:-0400
TZNAME:EDT
DTSTART:20250309T070000
END:DAYLIGHT
BEGIN:STANDARD
TZOFFSETFROM:-0400
TZOFFSETTO:-0500
TZNAME:EST
DTSTART:20251102T060000
END:STANDARD
BEGIN:DAYLIGHT
TZOFFSETFROM:-0500
TZOFFSETTO:-0400
TZNAME:EDT
DTSTART:20260308T070000
END:DAYLIGHT
BEGIN:STANDARD
TZOFFSETFROM:-0400
TZOFFSETTO:-0500
TZNAME:EST
DTSTART:20261101T060000
END:STANDARD
END:VTIMEZONE
BEGIN:VEVENT
DTSTART;TZID=America/New_York:20250905T183000
DTEND;TZID=America/New_York:20250905T200000
DTSTAMP:20260424T012249
CREATED:20250807T002145Z
LAST-MODIFIED:20250902T235254Z
UID:5560-1757097000-1757102400@worldshipny.com
SUMMARY:PAST AND FUTURE OF NUCLEAR SHIP SAVANNAH Presented by Erhard W. Koehler
DESCRIPTION:Nuclear Ship SAVANNAH is the world’s first nuclear-powered merchant ship\, built at the New York Shipbuilding Corporation in Camden\, NJ\, under President Eisenhower’s Atoms for Peace Program. Throughout its operation\, the ship called in New Jersey\, while Hoboken served as its home base. As responsible stewards of a National Historic Landmark\, the Maritime Administration (MARAD) worked to minimize adverse effects during the decommissioning process and were able to save key elements of the nuclear power plant and even improve the ship in the process. When the decommissioning process is complete (anticipated 2026)\, the ship will be available for preservation. This program will highlight the history of the ship\, how the decommissioning process improved the ship\, and what must be done before SAVANNAH enters its next act. \nErhard Koehler is a graduate of the State University of New York Maritime College with a degree in Naval Architecture. He first worked as a structural and field-support engineer with the Philadelphia Naval Shipyard. Soon after he joined MARAD’s Office of Ship Operations in Washington\, DC. An avid amateur maritime historian\, in 1992\, Erhard enthusiastically jumped at the opportunity to oversee SAVANNAH’s return to MARAD custody from the Patriot’s Point Naval and Maritime Museum and her subsequent 1994 drydocking and relocation to the agency’s reserve fleet site near Newport News\, Virginia. Erhard remained with the ship as a project engineer and member of the licensee organization during its protective storage period. In 2004\, he advanced to the agency’s senior SAVANNAH management positions and is responsible for all SAVANNAH program activities\, operations\, maintenance\, repair\, custody and preservation. \n(Image: Pat Dacey collection)
URL:https://worldshipny.com/event/past-and-future-of-nuclear-ship-savannah-presented-by-erhard-w-koehler/
LOCATION:Virtual Meeting via Zoom
ATTACH;FMTTYPE=image/jpeg:https://worldshipny.com/wp-content/uploads/2025/08/20110521_WSS-NSSavannahTrip_018-2.jpg
END:VEVENT
END:VCALENDAR