BEGIN:VCALENDAR
VERSION:2.0
PRODID:-//World Ship Society - ECPv6.15.20//NONSGML v1.0//EN
CALSCALE:GREGORIAN
METHOD:PUBLISH
X-WR-CALNAME:World Ship Society
X-ORIGINAL-URL:https://worldshipny.com
X-WR-CALDESC:Events for World Ship Society
REFRESH-INTERVAL;VALUE=DURATION:PT1H
X-Robots-Tag:noindex
X-PUBLISHED-TTL:PT1H
BEGIN:VTIMEZONE
TZID:America/New_York
BEGIN:DAYLIGHT
TZOFFSETFROM:-0500
TZOFFSETTO:-0400
TZNAME:EDT
DTSTART:20240310T070000
END:DAYLIGHT
BEGIN:STANDARD
TZOFFSETFROM:-0400
TZOFFSETTO:-0500
TZNAME:EST
DTSTART:20241103T060000
END:STANDARD
BEGIN:DAYLIGHT
TZOFFSETFROM:-0500
TZOFFSETTO:-0400
TZNAME:EDT
DTSTART:20250309T070000
END:DAYLIGHT
BEGIN:STANDARD
TZOFFSETFROM:-0400
TZOFFSETTO:-0500
TZNAME:EST
DTSTART:20251102T060000
END:STANDARD
BEGIN:DAYLIGHT
TZOFFSETFROM:-0500
TZOFFSETTO:-0400
TZNAME:EDT
DTSTART:20260308T070000
END:DAYLIGHT
BEGIN:STANDARD
TZOFFSETFROM:-0400
TZOFFSETTO:-0500
TZNAME:EST
DTSTART:20261101T060000
END:STANDARD
END:VTIMEZONE
BEGIN:VEVENT
DTSTART;TZID=America/New_York:20250830T100000
DTEND;TZID=America/New_York:20250830T113000
DTSTAMP:20260424T030524
CREATED:20250807T000343Z
LAST-MODIFIED:20250824T020839Z
UID:5557-1756548000-1756553400@worldshipny.com
SUMMARY:FAREWELL MARCO POLO ***ENCORE PRESENTATION***Presented by David Trevor-Jones
DESCRIPTION:Cruise & Maritime Voyages fell victim to the pandemic in June 2020.  Its eclectic fleet of classic cruise ships including the venerable MARCO POLO\, formerly the Soviet ALEXANDER PUSHKIN\, was arrested and later auctioned by the UK Admiralty Marshall.  MARCO POLO languished in lay-up at Avonmouth\, the port of Bristol\, until November that year.  David Trevor-Jones gained privileged access and was the last ship enthusiast/photographer allowed on board and was also on the dockside to watch her sail.  This is his story of how that happened and what he saw. \nIn Spring 1966 David Trevor-Jones was with his father on an excursion boat trip round Southampton Docks at the peak of the British seamen’s strike. A sudden squall drove the boat to seek shelter in the lee of the QUEEN MARY. David reached out and plucked a flake of paint from the liner’s hull. He was hooked as a ship-enthusiast for life! A family cruise on the new MIKHAIL LERMONTOV in 1973 sparked his fascination with the Soviet “author” liners. Now Dorset WSS Vice-Chairperson and program organizer of the Ocean Liner Society\, David has written about and lectured on the Soviet class of “author” ships and their key role in the UK cruise market. \nIf you missed David’s presentation at our June virtual membership meeting\, or would like to see it again\, we encourage you to join us for this encore showing on Saturday\, August 30\, 2025. \n(Image: David Trevor-Jones)
URL:https://worldshipny.com/event/farewell-marco-polo-encore-presentationpresented-by-david-trevor-jones/
LOCATION:Zoom Presentation
ATTACH;FMTTYPE=image/jpeg:https://worldshipny.com/wp-content/uploads/2025/05/Screenshot-2025-05-20-203336.jpg
END:VEVENT
END:VCALENDAR