BEGIN:VCALENDAR
VERSION:2.0
PRODID:-//World Ship Society - ECPv6.15.20//NONSGML v1.0//EN
CALSCALE:GREGORIAN
METHOD:PUBLISH
X-WR-CALNAME:World Ship Society
X-ORIGINAL-URL:https://worldshipny.com
X-WR-CALDESC:Events for World Ship Society
REFRESH-INTERVAL;VALUE=DURATION:PT1H
X-Robots-Tag:noindex
X-PUBLISHED-TTL:PT1H
BEGIN:VTIMEZONE
TZID:America/New_York
BEGIN:DAYLIGHT
TZOFFSETFROM:-0500
TZOFFSETTO:-0400
TZNAME:EDT
DTSTART:20240310T070000
END:DAYLIGHT
BEGIN:STANDARD
TZOFFSETFROM:-0400
TZOFFSETTO:-0500
TZNAME:EST
DTSTART:20241103T060000
END:STANDARD
BEGIN:DAYLIGHT
TZOFFSETFROM:-0500
TZOFFSETTO:-0400
TZNAME:EDT
DTSTART:20250309T070000
END:DAYLIGHT
BEGIN:STANDARD
TZOFFSETFROM:-0400
TZOFFSETTO:-0500
TZNAME:EST
DTSTART:20251102T060000
END:STANDARD
BEGIN:DAYLIGHT
TZOFFSETFROM:-0500
TZOFFSETTO:-0400
TZNAME:EDT
DTSTART:20260308T070000
END:DAYLIGHT
BEGIN:STANDARD
TZOFFSETFROM:-0400
TZOFFSETTO:-0500
TZNAME:EST
DTSTART:20261101T060000
END:STANDARD
END:VTIMEZONE
BEGIN:VEVENT
DTSTART;TZID=America/New_York:20250321T183000
DTEND;TZID=America/New_York:20250321T200000
DTSTAMP:20260424T120215
CREATED:20250205T210333Z
LAST-MODIFIED:20250205T212153Z
UID:4637-1742581800-1742587200@worldshipny.com
SUMMARY:THE STORIED LIFE AND TIMES OF THE SEA CLOUD Presented by Peter Knego
DESCRIPTION:In Peter Knego’s premier SEA CLOUD presentation\, Peter will recall the career of the legendary ship\, which was built as Marjorie Merriweather-Post and E.F. Hutton’s private yacht HUSSAR V in 1931.  The SEA CLOUD went on to serve in World War II.  Following\, the SEA CLOUD became the state yacht for the Dominican Republic Dictator and his playboy son.  She later fell into neglect and disrepair but was completely and stunningly restored with additional accommodations into what she is now\, in the presenter’s opinion\, the world’s most beautiful cruise ship.  Peter will also share images of the SEA CLOUD’s original interiors through the years and will show what the ship is like today. \nPeter Knego is an ocean liner historian\, journalist\, photographer\, videographer\, blogger and lecturer.  With a life-long passion for mid-century modern ocean liners and the treasures that filled them\, during nine trips to India\, Peter salvaged container loads of materials from a number of ocean liners in the throes of scrapping on the beaches of Alang and simultaneously took the opportunity to record their “last breaths” in two documentary series: “The World’s Passenger Fleet” and “On the Road to Alang.”  Just a few months ago\, Peter treated PONY Branch members and friends to a tour of his southern California home turned mid-century modern ocean liner which was created using salvaged ocean liner artifacts.  His home has been featured in The New York Times and elsewhere.  Peter is a recipient of the SSHSA Samuel Ward Stanton Award for Lifetime Achievement in ship preservation.  Ever busy\, Peter also operates the website MidShipCentury.com which offers up artwork\, furniture and fittings from various ships scrapped at Alang. \n(Photo: Peter Knego collection)
URL:https://worldshipny.com/event/the-storied-life-and-times-of-the-sea-cloud-presented-by-peter-knego/
LOCATION:Virtual Meeting via Zoom
ATTACH;FMTTYPE=image/png:https://worldshipny.com/wp-content/uploads/2025/02/Sea-Cloud-1.png
END:VEVENT
BEGIN:VEVENT
DTSTART;TZID=America/New_York:20250329T100000
DTEND;TZID=America/New_York:20250329T233000
DTSTAMP:20260424T120215
CREATED:20250311T184521Z
LAST-MODIFIED:20250311T185121Z
UID:4853-1743242400-1743291000@worldshipny.com
SUMMARY:ALONG THE BURMA ROAD - A Tour Behind the Scenes of QUEEN ELIZABETH ***ENCORE PRESENTATION*** Presented by Alastair Greener
DESCRIPTION:ALONG THE BURMA ROAD looks behind the scenes and the logistics of a modern ship\, Cunard’s QUEEN ELIZABETH.  With more than 100 exclusive pictures\, Alastair will take the audience from one end of the ship to the other\, along the main crew working alleyway (which has the nickname “The Burma Road” on Cunard ships).  Alastair will share operational details from the food and beverage department\, as well as details about storage and waste disposal.  Additionally\, and of course\, what behind the scenes ship tour would be complete without visiting the engine control room\, bridge\, and the laundry. \nMaritime lecturer and former Cunard Entertainment Director\, Alastair Greener\, brings his passion for Cunard history to Cunard ship audiences as well as audiences throughout the UK.  Extensively researched\, his talks are packed with remarkable photos and numerous stories that bring Cunard’s fascinating history to life. \nIf you missed Alastair’s presentation at our January virtual membership meeting\, or would like to see it again\, we encourage you to join us for this encore showing on Saturday\, March 29\, 2025. \n(Photo: Stuart Gewirtzman)
URL:https://worldshipny.com/event/along-the-burma-road-a-tour-behind-the-scenes-of-queen-elizabeth-encore-presentation-presented-by-alastair-greener/
LOCATION:Zoom Presentation
ATTACH;FMTTYPE=image/png:https://worldshipny.com/wp-content/uploads/2024/12/Picture1.png
END:VEVENT
END:VCALENDAR