BEGIN:VCALENDAR
VERSION:2.0
PRODID:-//World Ship Society - ECPv6.15.20//NONSGML v1.0//EN
CALSCALE:GREGORIAN
METHOD:PUBLISH
X-WR-CALNAME:World Ship Society
X-ORIGINAL-URL:https://worldshipny.com
X-WR-CALDESC:Events for World Ship Society
REFRESH-INTERVAL;VALUE=DURATION:PT1H
X-Robots-Tag:noindex
X-PUBLISHED-TTL:PT1H
BEGIN:VTIMEZONE
TZID:America/New_York
BEGIN:DAYLIGHT
TZOFFSETFROM:-0500
TZOFFSETTO:-0400
TZNAME:EDT
DTSTART:20230312T070000
END:DAYLIGHT
BEGIN:STANDARD
TZOFFSETFROM:-0400
TZOFFSETTO:-0500
TZNAME:EST
DTSTART:20231105T060000
END:STANDARD
BEGIN:DAYLIGHT
TZOFFSETFROM:-0500
TZOFFSETTO:-0400
TZNAME:EDT
DTSTART:20240310T070000
END:DAYLIGHT
BEGIN:STANDARD
TZOFFSETFROM:-0400
TZOFFSETTO:-0500
TZNAME:EST
DTSTART:20241103T060000
END:STANDARD
BEGIN:DAYLIGHT
TZOFFSETFROM:-0500
TZOFFSETTO:-0400
TZNAME:EDT
DTSTART:20250309T070000
END:DAYLIGHT
BEGIN:STANDARD
TZOFFSETFROM:-0400
TZOFFSETTO:-0500
TZNAME:EST
DTSTART:20251102T060000
END:STANDARD
END:VTIMEZONE
BEGIN:VEVENT
DTSTART;VALUE=DATE:20241108
DTEND;VALUE=DATE:20241116
DTSTAMP:20260424T190417
CREATED:20231031T184847Z
LAST-MODIFIED:20241118T174615Z
UID:4121-1731024000-1731715199@worldshipny.com
SUMMARY:CARNIVAL RADIANCE 4-Nt Cruise From Long Beach\, CA\, Plus QUEEN MARY Pre-Cruise Activities
DESCRIPTION:  \n  \nDuring the weekend of November 8-10\, 2024\, 17 PONY Branch members joined the Steamship Historical Society of America for their annual meeting\, this year held at the QUEEN MARY Hotel in Long Beach\, CA. In addition to exploring the fabled ocean liner\, attendees had the opportunity to view the ocean liner memorabilia collection of Dr. Nelson Arnstein at his home in Long Beach\, attend presentations on the SS ROTTERDAM (V) and the SSHSA archives and collections\, and attend a cocktail reception and gala dinner on Saturday evening featuring a presentation by Peter Knego on Maritime Modernism Afloat. On Sunday\, attendees were welcomed by Peter at his home in Oceanside for lunch and a tour of his extensive museum-quality collection of mid-century ocean liner furnishings and artwork\, acquired during numerous trips to ship breakers around the world. \nOn Monday\, 41 SSHSA and WSS-PONY Branch members\, family and friends embarked on a four-night cruise out of Long Beach aboard CARNIVAL RADIANCE (formerly the CARNIVAL VICTORY). Although a port call at Catalina Island was cancelled due to rough seas\, members did not lack for fun activities\, including a port call at Ensenada\, Mexico; a visit with Captain Eduardo Ferrone\, the ship’s Master\, on the bridge of the RADIANCE; a presentation on passenger-ship builder’s plates by Captain Terry Tilton\, U.S.N. (Ret); and two cocktail receptions hosted by SSHSA and Carnival. Our thanks to the SSHSA\, the QUEEN MARY Hotel\, and the crew of the CARNIVAL RADIANCE for a very enjoyable week in the company of fellow ship enthusiasts. \n(Photo: carnival-news.com) \n  \n  \n 
URL:https://worldshipny.com/event/carnival-radiance-4-night-cruise-from-long-beach-ca-plus-queen-mary-pre-cruise-activities/
LOCATION:Long Beach\, CA
ATTACH;FMTTYPE=image/png:https://worldshipny.com/wp-content/uploads/2023/10/Carnival-Radiance.png
END:VEVENT
BEGIN:VEVENT
DTSTART;TZID=America/New_York:20241122T183000
DTEND;TZID=America/New_York:20241122T200000
DTSTAMP:20260424T190417
CREATED:20241001T155804Z
LAST-MODIFIED:20250205T204712Z
UID:4413-1732300200-1732305600@worldshipny.com
SUMMARY:DUTCH LINERS TO THE EAST INDIES Presented by Captain Albert Schoonderbeek
DESCRIPTION:The Kingdom of the Netherlands included colonies in the Far East from the 17th century onwards until 1948 when they became the Republic of Indonesia.  With the advent of steam\, the Dutch VOC (United (East) Indies Company) morphed into several companies such as the Netherland Line\, Rotterdam Lloyd\, and Royal Packet.  In the same way the British Empire had morphed the P&O\, Orient and B.I shipping companies. \nTo maintain a regular service to and from the mother country\, a large fleet was needed to sail like clockwork through the Suez Canal.  The inter-island fleet of Royal Packet (KPM) was even larger.  The heyday was the 1920’s and 30’s with ships such as JOHAN VAN OLDENBARNEVELT\, the DEMPO and BALOERAN\, and a brief resurrection after WWII with the MS ORANJE and MS WILLEM RUYS. \nDue to political reasons\, the fleets became smaller and smaller and eventually all companies were absorbed into Nedlloyd.  With containerization\, Nedlloyd eventually merged into Maersk Lines.  Apart from some office buildings in Amsterdam\, Rotterdam\, and the Far East\, there is not much left that reminds us of those days.  In the Netherlands those times are known as ‘Tempo Doeloe’ which is Indonesian for ‘The Good Times.’ \nCapt. Albert will condense this enormous fleet and the story of its worldwide reach into his presentation.  He will also provide insights into the rich Dutch Empire shipping history. \nCapt. Albert J. Schoonderbeek served with Holland America Line for 42 years; culminating in his appointment as the line’s Fleet Master. He writes and lectures frequently about Holland America Line and passenger ship history\, and he maintains a website and blog www.captainalbert.com.  In addition to authoring four books on the topic of Holland America Line\, he is also the co-author of HAL’s official 125-year company history. \n(Photo: Capt. Schoonderbeek Collection)
URL:https://worldshipny.com/event/dutch-liners-to-the-far-east-presented-by-captain-albert-schoonderbeek/
LOCATION:Virtual Meeting via Zoom
ATTACH;FMTTYPE=image/png:https://worldshipny.com/wp-content/uploads/2024/10/Picture1.png
END:VEVENT
END:VCALENDAR