BEGIN:VCALENDAR
VERSION:2.0
PRODID:-//World Ship Society - ECPv6.15.20//NONSGML v1.0//EN
CALSCALE:GREGORIAN
METHOD:PUBLISH
X-WR-CALNAME:World Ship Society
X-ORIGINAL-URL:https://worldshipny.com
X-WR-CALDESC:Events for World Ship Society
REFRESH-INTERVAL;VALUE=DURATION:PT1H
X-Robots-Tag:noindex
X-PUBLISHED-TTL:PT1H
BEGIN:VTIMEZONE
TZID:America/New_York
BEGIN:DAYLIGHT
TZOFFSETFROM:-0500
TZOFFSETTO:-0400
TZNAME:EDT
DTSTART:20230312T070000
END:DAYLIGHT
BEGIN:STANDARD
TZOFFSETFROM:-0400
TZOFFSETTO:-0500
TZNAME:EST
DTSTART:20231105T060000
END:STANDARD
BEGIN:DAYLIGHT
TZOFFSETFROM:-0500
TZOFFSETTO:-0400
TZNAME:EDT
DTSTART:20240310T070000
END:DAYLIGHT
BEGIN:STANDARD
TZOFFSETFROM:-0400
TZOFFSETTO:-0500
TZNAME:EST
DTSTART:20241103T060000
END:STANDARD
BEGIN:DAYLIGHT
TZOFFSETFROM:-0500
TZOFFSETTO:-0400
TZNAME:EDT
DTSTART:20250309T070000
END:DAYLIGHT
BEGIN:STANDARD
TZOFFSETFROM:-0400
TZOFFSETTO:-0500
TZNAME:EST
DTSTART:20251102T060000
END:STANDARD
END:VTIMEZONE
BEGIN:VEVENT
DTSTART;TZID=America/New_York:20241012T100000
DTEND;TZID=America/New_York:20241012T233000
DTSTAMP:20260424T203408
CREATED:20241001T231438Z
LAST-MODIFIED:20241001T231438Z
UID:4420-1728727200-1728775800@worldshipny.com
SUMMARY:THE ART AND DESIGN OF MATSON'S POSTWAR LINERS ***ENCORE PRESENTATION*** Presented by Wayne Yanda
DESCRIPTION:Aloha!  During the postwar era\, the iconic white ships of Matson Lines were the way to travel to Hawaii and the South Seas. The quartet of LURLINE\, MATSONIA\, MARIPOSA\, and MONTEREY were practically rebuilt from the keel up to become icons of luxury travel in the Pacific. Their modern interiors\, by designers Raymond Loewy and Harry Neafie – crafted to ensconce the traveler in Polynesia the moment they stepped aboard – showcased murals and sculpture inspired by the destinations. Artists selected hailed from both coasts\, including Edna Andrade\, Esther Bruton\, Helen Bruton\, Marion Cunningham\, Francesco di Cocco\, Sargent Johnson\, Peter Ostuni\, Emmy Lou Packard\, Anton Refregier\, Louis Ross\, and Jacques Schnier. At our September membership meeting we joined maritime historian Wayne Yanda for a look at the modern-primitive stylings of these “Pacific Playgrounds.” \nWayne Yanda is a freelance graphic designer. He is also Editor and Contributor to the Ocean Times\, the quarterly journal of the Steamship Historical Society of America’s Southern California Chapter. He has catalogued the bulk of the art commissioned for American liners built between 1927 and 1962 on his website www.muralsonthehighseas.com. \nIf you missed Wayne’s presentation in September or would like to see it again\, we encourage you to join us for this encore showing on Saturday\, October 12th. \n(Photo: Wayne Yanda collection) \n 
URL:https://worldshipny.com/event/the-art-and-design-of-matsons-postwar-liners-encore-presentation-presented-by-wayne-yanda/
LOCATION:Zoom Presentation
ATTACH;FMTTYPE=image/png:https://worldshipny.com/wp-content/uploads/2024/07/LURLINE.png
END:VEVENT
BEGIN:VEVENT
DTSTART;TZID=America/New_York:20241025T183000
DTEND;TZID=America/New_York:20241025T200000
DTSTAMP:20260424T203408
CREATED:20240901T141021Z
LAST-MODIFIED:20240901T142243Z
UID:4384-1729881000-1729886400@worldshipny.com
SUMMARY:ROYAL VIKING LINE - BEFORE AND BEYONDPresented by Clive Harvey
DESCRIPTION:While the origins of Royal Viking Line can be traced back to 1967\, its true origins go back much further. Bergen Line\, the initial company behind what would become Royal Viking Line\, had made a name for itself by operating cruises during the inter-war years with the luxurious yacht-like vessels STELLA POLARIS and METEOR.  After World War II\, Bergen Line made a return to cruising operations using the 1931-built VENUS on winter cruises from Plymouth to Madeira and the Canary Islands and with the then new METEOR on cruises further afield. \nBergen Line looked to expand its cruising operations. The Line worked with Knud E. Hansen A/S on a cruise ship design with the intention to offer world-class cruising that was just that little bit more special than all other luxury ships at the time. Once the order had been placed\, Bergen Line was approached by two other Norwegian shipping companies\, Det Nordenfjelske and A F Klaveness\, and in 1970 they founded Royal Viking Line. \nRoyal Viking Line achieved all that Bergen Line had envisaged and probably more. Its first three ships ROYAL VIKING STAR\, ROYAL VIKING SKY\, and ROYAL VIKING SEA became synonymous with worldwide luxury cruising. Although the life of Royal Viking Line itself was not long\, it became legendary. The ships themselves led diverse careers though ending with companies that lavished care upon them and thus earning them legions more loyal followers. They sailed for almost 50 years\, yet even at the end they seemed to remain timeless. This is their story. \nClive Harvey has a lifelong love of ocean liners. He is a former longtime editor of Sea Lines magazine and has written numerous ocean liner related articles and books\, including R.M.S. Queen Elizabeth\, The Ultimate Ship. Clive currently resides in the UK and is the owner of a boutique B&B. \n(Photo: Clive Harvey collection) \n 
URL:https://worldshipny.com/event/royal-viking-line-before-and-beyondpresented-by-clive-harvey/
LOCATION:Virtual Meeting via Zoom
ATTACH;FMTTYPE=image/png:https://worldshipny.com/wp-content/uploads/2024/09/Picture2.png
END:VEVENT
END:VCALENDAR