BEGIN:VCALENDAR
VERSION:2.0
PRODID:-//World Ship Society - ECPv6.15.20//NONSGML v1.0//EN
CALSCALE:GREGORIAN
METHOD:PUBLISH
X-ORIGINAL-URL:https://worldshipny.com
X-WR-CALDESC:Events for World Ship Society
REFRESH-INTERVAL;VALUE=DURATION:PT1H
X-Robots-Tag:noindex
X-PUBLISHED-TTL:PT1H
BEGIN:VTIMEZONE
TZID:America/New_York
BEGIN:DAYLIGHT
TZOFFSETFROM:-0500
TZOFFSETTO:-0400
TZNAME:EDT
DTSTART:20230312T070000
END:DAYLIGHT
BEGIN:STANDARD
TZOFFSETFROM:-0400
TZOFFSETTO:-0500
TZNAME:EST
DTSTART:20231105T060000
END:STANDARD
BEGIN:DAYLIGHT
TZOFFSETFROM:-0500
TZOFFSETTO:-0400
TZNAME:EDT
DTSTART:20240310T070000
END:DAYLIGHT
BEGIN:STANDARD
TZOFFSETFROM:-0400
TZOFFSETTO:-0500
TZNAME:EST
DTSTART:20241103T060000
END:STANDARD
BEGIN:DAYLIGHT
TZOFFSETFROM:-0500
TZOFFSETTO:-0400
TZNAME:EDT
DTSTART:20250309T070000
END:DAYLIGHT
BEGIN:STANDARD
TZOFFSETFROM:-0400
TZOFFSETTO:-0500
TZNAME:EST
DTSTART:20251102T060000
END:STANDARD
END:VTIMEZONE
BEGIN:VEVENT
DTSTART;TZID=America/New_York:20240322T183000
DTEND;TZID=America/New_York:20240322T200000
DTSTAMP:20260425T090646
CREATED:20240203T184740Z
LAST-MODIFIED:20240204T003814Z
UID:4202-1711132200-1711137600@worldshipny.com
SUMMARY:MARITIME ROYALTY:  BRITAIN'S QUEENS OF THE ATLANTICPresented by Bill Miller
DESCRIPTION:They are the most famous ocean liners of all time — the original QUEEN MARY and QUEEN ELIZABETH. Luxury in peace\, heroics in war. They were later followed by the QE2\, then QUEEN MARY 2 and three more Queens: QUEEN VICTORIA\, QUEEN ELIZABETH and the new QUEEN ANNE. At our March 22nd virtual membership meeting we will once again welcome Bill Miller\, “Mr. Ocean Liner\,” who will review the glorious history of these great Cunarders. \nBill Miller is considered an international authority on the subject of ocean liners and cruise ships. He has written over 100 books on the subject. Bill\, a world traveler with hundreds of sea voyages\, is a much sought-after presenter and blogger. He is also a career educator. Since 1965\, Bill has been a life-long and is also a founding member of the WSS-PONY Branch. Bill was named Outstanding American Maritime Scholar in 1994 and received the U.S. Maritime Preservation Award and the Ocean Liner Council’s Silver Riband Award in 2004. Additionally\, he was the 2017 recipient of SSHSA’s Samuael Ward Stanton Award for Lifetime Achievement. \nAlong with Stephen Payne (the guest presenter at our January 2024 meeting)\, Bill we be departing on August 23\, 2024 as a lecturer aboard the QUEEN MARY 2 for that grand ship’s 400th celebratory crossing from New York to Southampton. \n(Image: Bill Miller collection) \n 
URL:https://worldshipny.com/event/maritime-royalty-britains-queens-of-the-atlanticpresented-by-bill-miller/
LOCATION:Virtual Meeting via Zoom
ATTACH;FMTTYPE=image/jpeg:https://worldshipny.com/wp-content/uploads/2024/02/085a.jpg
END:VEVENT
BEGIN:VEVENT
DTSTART;TZID=America/New_York:20240330T100000
DTEND;TZID=America/New_York:20240330T113000
DTSTAMP:20260425T090646
CREATED:20240307T195845Z
LAST-MODIFIED:20240307T195845Z
UID:4226-1711792800-1711798200@worldshipny.com
SUMMARY:GENESIS OF A QUEEN:  QUEEN MARY 2 ***ENCORE PRESENTATION*** Presented by Dr. Stephen M. Payne\, O.B.E.
DESCRIPTION:At our January virtual membership meeting\, Dr. Stephen Payne\, O.B.E.\, designer of the Cunard transatlantic liner QUEEN MARY 2\, presented an illustrated lecture celebrating the 20th anniversary of the commissioning of the ship. “Genesis of a Queen: QUEEN MARY 2” is a very personal journey on how the design of QUEEN MARY 2 evolved and what makes her an ocean liner as distinct from a cruise ship. This is considered the definitive lecture about QUEEN MARY 2. \nIf you missed Stephen’s presentation in January or would like to see it again\, we encourage you to join us for this encore showing on Saturday\, March 30th. \n(Stephen Payne photo) \n 
URL:https://worldshipny.com/event/genesis-of-a-queen-queen-mary-2-encore-presentation-presented-by-dr-stephen-m-payne-o-b-e/
LOCATION:Zoom Presentation
ATTACH;FMTTYPE=image/jpeg:https://worldshipny.com/wp-content/uploads/2023/12/Stephen-Payne-QM2.jpg
END:VEVENT
END:VCALENDAR