BEGIN:VCALENDAR
VERSION:2.0
PRODID:-//World Ship Society - ECPv6.15.20//NONSGML v1.0//EN
CALSCALE:GREGORIAN
METHOD:PUBLISH
X-ORIGINAL-URL:https://worldshipny.com
X-WR-CALDESC:Events for World Ship Society
REFRESH-INTERVAL;VALUE=DURATION:PT1H
X-Robots-Tag:noindex
X-PUBLISHED-TTL:PT1H
BEGIN:VTIMEZONE
TZID:America/New_York
BEGIN:DAYLIGHT
TZOFFSETFROM:-0500
TZOFFSETTO:-0400
TZNAME:EDT
DTSTART:20230312T070000
END:DAYLIGHT
BEGIN:STANDARD
TZOFFSETFROM:-0400
TZOFFSETTO:-0500
TZNAME:EST
DTSTART:20231105T060000
END:STANDARD
BEGIN:DAYLIGHT
TZOFFSETFROM:-0500
TZOFFSETTO:-0400
TZNAME:EDT
DTSTART:20240310T070000
END:DAYLIGHT
BEGIN:STANDARD
TZOFFSETFROM:-0400
TZOFFSETTO:-0500
TZNAME:EST
DTSTART:20241103T060000
END:STANDARD
BEGIN:DAYLIGHT
TZOFFSETFROM:-0500
TZOFFSETTO:-0400
TZNAME:EDT
DTSTART:20250309T070000
END:DAYLIGHT
BEGIN:STANDARD
TZOFFSETFROM:-0400
TZOFFSETTO:-0500
TZNAME:EST
DTSTART:20251102T060000
END:STANDARD
END:VTIMEZONE
BEGIN:VEVENT
DTSTART;TZID=America/New_York:20240106T100000
DTEND;TZID=America/New_York:20240106T233000
DTSTAMP:20260425T125616
CREATED:20231229T163519Z
LAST-MODIFIED:20231229T163927Z
UID:4182-1704535200-1704583800@worldshipny.com
SUMMARY:EUROPEAN IMMIGRATION TO CANADA AND THE U.S. ***ENCORE PRESENTATION*** Presented by Ted Scull
DESCRIPTION:With increasingly large numbers of Europeans desiring passage to Canada and the United States in the 19th century\, many shipping lines built larger and faster ships to meet the demands right up to World War I. It was these souls who sailed in steerage that filled these ships and generated the profits for the shipping lines rather than those in first class. At this encore presentation of the program presented at our November/December membership meeting\, author and PONY Branch past-chairman Ted Scull discusses how this important trans-Atlantic trade fluctuated\, and how new ships were built to accommodate it into the 1960s. \nIf you missed Ted’s informative presentation in December or would like to see it again\, we encourage you to join us for this encore showing on Saturday\, January 6th. \n(Ted Scull Photo: BERLIN seen on her last sailing from sailing from New York on 9/3/67.  She regularly carried immigrants from Europe to America.) \n 
URL:https://worldshipny.com/event/european-immigration-to-canada-and-the-u-s-encore-presentation-presented-by-ted-scull/
LOCATION:Zoom Presentation
ATTACH;FMTTYPE=image/jpeg:https://worldshipny.com/wp-content/uploads/2023/10/Stefan-Batory.jpg
END:VEVENT
BEGIN:VEVENT
DTSTART;TZID=America/New_York:20240107T140000
DTEND;TZID=America/New_York:20240107T170000
DTSTAMP:20260425T125616
CREATED:20231031T182250Z
LAST-MODIFIED:20260103T200929Z
UID:4117-1704636000-1704646800@worldshipny.com
SUMMARY:PONY BRANCH 2023 HOLIDAY PARTY
DESCRIPTION:On Sunday\, January 7\, 2024\, 22 PONY Branch members and friends enjoyed food\, drinks and the camaraderie of fellow ship enthusiasts at our annual Holiday Party at the Churchill Tavern in Manhattan’s NoMad neighborhood.
URL:https://worldshipny.com/event/pony-branch-holiday-party-4/
LOCATION:The Churchill Tavern\, 45 East 28th Street\, New York\, NY\, United States
ATTACH;FMTTYPE=image/png:https://worldshipny.com/wp-content/uploads/2023/12/Churchill-Tavern-Holiday.png
END:VEVENT
BEGIN:VEVENT
DTSTART;TZID=America/New_York:20240126T183000
DTEND;TZID=America/New_York:20240126T200000
DTSTAMP:20260425T125616
CREATED:20231229T161449Z
LAST-MODIFIED:20240129T195859Z
UID:4176-1706293800-1706299200@worldshipny.com
SUMMARY:GENESIS OF A QUEEN:  QUEEN MARY 2Presented by Dr. Stephen M. Payne\, O.B.E.
DESCRIPTION:Dr. Stephen Payne\, O.B.E.\, designer of the Cunard transatlantic liner QUEEN MARY 2\, presented an illustrated lecture celebrating the 20th anniversary of the commissioning of the ship. “Genesis of a Queen: QUEEN MARY 2” is a very personal journey on how the design of QUEEN MARY 2 evolved and what makes her an ocean liner as distinct from a cruise ship. This is considered the definitive lecture about QUEEN MARY 2. \n(Stephen Payne photo) \n 
URL:https://worldshipny.com/event/genesis-of-a-queen-queen-mary-2presented-by-dr-stephen-m-payne-o-b-e/
LOCATION:Virtual Meeting via Zoom
ATTACH;FMTTYPE=image/jpeg:https://worldshipny.com/wp-content/uploads/2023/12/Stephen-Payne-QM2.jpg
END:VEVENT
END:VCALENDAR