BEGIN:VCALENDAR
VERSION:2.0
PRODID:-//World Ship Society - ECPv6.15.20//NONSGML v1.0//EN
CALSCALE:GREGORIAN
METHOD:PUBLISH
X-WR-CALNAME:World Ship Society
X-ORIGINAL-URL:https://worldshipny.com
X-WR-CALDESC:Events for World Ship Society
REFRESH-INTERVAL;VALUE=DURATION:PT1H
X-Robots-Tag:noindex
X-PUBLISHED-TTL:PT1H
BEGIN:VTIMEZONE
TZID:America/New_York
BEGIN:DAYLIGHT
TZOFFSETFROM:-0500
TZOFFSETTO:-0400
TZNAME:EDT
DTSTART:20220313T070000
END:DAYLIGHT
BEGIN:STANDARD
TZOFFSETFROM:-0400
TZOFFSETTO:-0500
TZNAME:EST
DTSTART:20221106T060000
END:STANDARD
BEGIN:DAYLIGHT
TZOFFSETFROM:-0500
TZOFFSETTO:-0400
TZNAME:EDT
DTSTART:20230312T070000
END:DAYLIGHT
BEGIN:STANDARD
TZOFFSETFROM:-0400
TZOFFSETTO:-0500
TZNAME:EST
DTSTART:20231105T060000
END:STANDARD
BEGIN:DAYLIGHT
TZOFFSETFROM:-0500
TZOFFSETTO:-0400
TZNAME:EDT
DTSTART:20240310T070000
END:DAYLIGHT
BEGIN:STANDARD
TZOFFSETFROM:-0400
TZOFFSETTO:-0500
TZNAME:EST
DTSTART:20241103T060000
END:STANDARD
END:VTIMEZONE
BEGIN:VEVENT
DTSTART;TZID=America/New_York:20231014T100000
DTEND;TZID=America/New_York:20231014T110000
DTSTAMP:20260425T180510
CREATED:20231009T233014Z
LAST-MODIFIED:20231009T233014Z
UID:4085-1697277600-1697281200@worldshipny.com
SUMMARY:EXPLORING THE QUARANTINE ISLANDS ***ENCORE PRESENTATION*** Presented by Pat Salmon
DESCRIPTION:After the famous burning of the Quarantine Hospital at Tompkinsville\, Staten Island on September 1 and 2\, 1858\, something had to be done to accommodate the thousands of arriving immigrants with contagious diseases. The historic Quarantine Islands\, Hoffman and Swinburne\, played a key role in our immigration history for decades. They were the first and sometimes the only stop for immigrants entering the United States. \nDue to technical difficulties\, we were unable to livestream or record Pat Salmon’s program\, “Exploring the Quarantine Islands of New York\,” at our September 24\, 2023 membership meeting at the National Lighthouse Museum on Staten Island. We have\, however\, obtained a recording of Pat’s program from a previous presentation at the Noble Maritime Collection and we will be showing it via Zoom at 10:00 a.m. (Eastern Time) on Saturday\, October 14\, 2023. We encourage everyone who missed the September meeting to join us for this special Zoom presentation. \n(Image: www.nytimes.com)
URL:https://worldshipny.com/event/exploring-the-quarantine-islands-encore-presentation-presented-by-pat-salmon/
LOCATION:Zoom Presentation
ATTACH;FMTTYPE=image/jpeg:https://worldshipny.com/wp-content/uploads/2023/07/20070824PHAFishingTrip035.jpg
END:VEVENT
BEGIN:VEVENT
DTSTART;TZID=America/New_York:20231027T183000
DTEND;TZID=America/New_York:20231027T200000
DTSTAMP:20260425T180510
CREATED:20230812T144534Z
LAST-MODIFIED:20231031T180113Z
UID:4043-1698431400-1698436800@worldshipny.com
SUMMARY:DEATH BY FIRE AND ICE: THE STEAMBOAT LEXINGTON CALAMITY Presented by Brian E. O'Connor
DESCRIPTION:At our October meeting\, the PONY Branch welcomed Brian E. O’Connor\, author of Death by Fire and Ice: The Steamboat Lexington Calamity\, who discussed the little-known story of the sinking of the steamboat LEXINGTON on Long Island Sound in January 1840. Built in 1835 by Cornelius Vanderbilt\, the LEXINGTON left Manhattan bound for Stonington\, Connecticut\, on a bitterly cold day carrying an estimated one hundred forty-seven passengers and crew and a cargo of\, among other things\, baled cotton. After making her way up an ice-encrusted East River into Long Island Sound\, she caught fire off Long Island’s north shore. With the crew unable to extinguish the fire\, the blaze burned through the ship’s wheel and tiller ropes\, the engine died\, and the ship floundered in the prevailing wind and current. \nAs the night wore on\, the temperature plummeted to well below zero. With no hope of rescue on the dark horizon\, the forlorn passengers and crew faced a dreadful decision: remain on board and perish in the searing flames or jump overboard and succumb within minutes to the Sound’s icy waters. By early morning all but one passenger and three members of the crew perished. The tragedy remains the worst maritime disaster in the history of Long Island Sound. \nWithin days\, the New York City Coroner convened an inquest to determine the cause of the disaster and after two weeks of testimony it concluded that if the crew had acted appropriately the fire could have been extinguished and a large portion\, if not all\, on board could have been saved. \nThe public’s reaction to the verdict was scathing. Calls for criminal charges and improved passenger safety legislation were made. The Congressional solution balanced the need to insulate the nation’s shipping industry from ruinous liability for lost cargo\, while at the same time greatly enhancing passenger safety on the nation’s steamboats. \nOur presenter\, Brian E. O’Connor\, was born in Brooklyn\, New York. He received a BA\, magna cum laude\, in government and politics from St. John’s University and a JD from St. John’s University School of Law\, where he served as the publication’s editor of the Law Review. After beginning his legal career with a clerkship on the New York Court of Appeals\, he became a partner in a prominent Wall Street law firm\, where he specialized in complex commercial litigation for thirty-eight years before retiring as the firm’s General Counsel in 2017. \n(Image: Naval Institute Press)
URL:https://worldshipny.com/event/death-by-fire-and-ice-presented-by-brian-e-oconnor/
LOCATION:The Rehearsal Hall at the National Opera Center & Via Zoom
ATTACH;FMTTYPE=image/jpeg:https://worldshipny.com/wp-content/uploads/2023/08/Awful_conflagration_of_the_steam_boat_Lexington.jpg
END:VEVENT
END:VCALENDAR